BEGIN:VCALENDAR
VERSION:2.0
PRODID:-//jEvents 2.0 for Joomla//EN
CALSCALE:GREGORIAN
METHOD:PUBLISH
BEGIN:VTIMEZONE
TZID:Europe/Berlin
BEGIN:STANDARD
DTSTART:20151025T020000
RDATE:20160327T030000
TZOFFSETFROM:+0200
TZOFFSETTO:+0100
TZNAME:Europe/Berlin CET
END:STANDARD
BEGIN:STANDARD
DTSTART:20161030T020000
RDATE:20170326T030000
TZOFFSETFROM:+0200
TZOFFSETTO:+0100
TZNAME:Europe/Berlin CET
END:STANDARD
BEGIN:STANDARD
DTSTART:20171029T020000
RDATE:20180325T030000
TZOFFSETFROM:+0200
TZOFFSETTO:+0100
TZNAME:Europe/Berlin CET
END:STANDARD
BEGIN:STANDARD
DTSTART:20181028T020000
RDATE:20190331T030000
TZOFFSETFROM:+0200
TZOFFSETTO:+0100
TZNAME:Europe/Berlin CET
END:STANDARD
BEGIN:STANDARD
DTSTART:20191027T020000
RDATE:20200329T030000
TZOFFSETFROM:+0200
TZOFFSETTO:+0100
TZNAME:Europe/Berlin CET
END:STANDARD
BEGIN:STANDARD
DTSTART:20201025T020000
RDATE:20210328T030000
TZOFFSETFROM:+0200
TZOFFSETTO:+0100
TZNAME:Europe/Berlin CET
END:STANDARD
BEGIN:STANDARD
DTSTART:20211031T020000
RDATE:20220327T030000
TZOFFSETFROM:+0200
TZOFFSETTO:+0100
TZNAME:Europe/Berlin CET
END:STANDARD
BEGIN:STANDARD
DTSTART:20221030T020000
RDATE:20230326T030000
TZOFFSETFROM:+0200
TZOFFSETTO:+0100
TZNAME:Europe/Berlin CET
END:STANDARD
BEGIN:STANDARD
DTSTART:20231029T020000
RDATE:20240331T030000
TZOFFSETFROM:+0200
TZOFFSETTO:+0100
TZNAME:Europe/Berlin CET
END:STANDARD
BEGIN:STANDARD
DTSTART:20241027T020000
RDATE:20250330T030000
TZOFFSETFROM:+0200
TZOFFSETTO:+0100
TZNAME:Europe/Berlin CET
END:STANDARD
BEGIN:STANDARD
DTSTART:20251026T020000
RDATE:20260329T030000
TZOFFSETFROM:+0200
TZOFFSETTO:+0100
TZNAME:Europe/Berlin CET
END:STANDARD
BEGIN:STANDARD
DTSTART:20261025T020000
RDATE:20270328T030000
TZOFFSETFROM:+0200
TZOFFSETTO:+0100
TZNAME:Europe/Berlin CET
END:STANDARD
BEGIN:STANDARD
DTSTART:20271031T020000
RDATE:20280326T030000
TZOFFSETFROM:+0200
TZOFFSETTO:+0100
TZNAME:Europe/Berlin CET
END:STANDARD
BEGIN:STANDARD
DTSTART:20281029T020000
RDATE:20290325T030000
TZOFFSETFROM:+0200
TZOFFSETTO:+0100
TZNAME:Europe/Berlin CET
END:STANDARD
BEGIN:STANDARD
DTSTART:20291028T020000
RDATE:20300331T030000
TZOFFSETFROM:+0200
TZOFFSETTO:+0100
TZNAME:Europe/Berlin CET
END:STANDARD
BEGIN:STANDARD
DTSTART:20301027T020000
RDATE:20310330T030000
TZOFFSETFROM:+0200
TZOFFSETTO:+0100
TZNAME:Europe/Berlin CET
END:STANDARD
BEGIN:DAYLIGHT
DTSTART:20150719T190000
RDATE:20151025T020000
TZOFFSETFROM:+0100
TZOFFSETTO:+0200
TZNAME:Europe/Berlin CEST
END:DAYLIGHT
BEGIN:DAYLIGHT
DTSTART:20160327T030000
RDATE:20161030T020000
TZOFFSETFROM:+0100
TZOFFSETTO:+0200
TZNAME:Europe/Berlin CEST
END:DAYLIGHT
BEGIN:DAYLIGHT
DTSTART:20170326T030000
RDATE:20171029T020000
TZOFFSETFROM:+0100
TZOFFSETTO:+0200
TZNAME:Europe/Berlin CEST
END:DAYLIGHT
BEGIN:DAYLIGHT
DTSTART:20180325T030000
RDATE:20181028T020000
TZOFFSETFROM:+0100
TZOFFSETTO:+0200
TZNAME:Europe/Berlin CEST
END:DAYLIGHT
BEGIN:DAYLIGHT
DTSTART:20190331T030000
RDATE:20191027T020000
TZOFFSETFROM:+0100
TZOFFSETTO:+0200
TZNAME:Europe/Berlin CEST
END:DAYLIGHT
BEGIN:DAYLIGHT
DTSTART:20200329T030000
RDATE:20201025T020000
TZOFFSETFROM:+0100
TZOFFSETTO:+0200
TZNAME:Europe/Berlin CEST
END:DAYLIGHT
BEGIN:DAYLIGHT
DTSTART:20210328T030000
RDATE:20211031T020000
TZOFFSETFROM:+0100
TZOFFSETTO:+0200
TZNAME:Europe/Berlin CEST
END:DAYLIGHT
BEGIN:DAYLIGHT
DTSTART:20220327T030000
RDATE:20221030T020000
TZOFFSETFROM:+0100
TZOFFSETTO:+0200
TZNAME:Europe/Berlin CEST
END:DAYLIGHT
BEGIN:DAYLIGHT
DTSTART:20230326T030000
RDATE:20231029T020000
TZOFFSETFROM:+0100
TZOFFSETTO:+0200
TZNAME:Europe/Berlin CEST
END:DAYLIGHT
BEGIN:DAYLIGHT
DTSTART:20240331T030000
RDATE:20241027T020000
TZOFFSETFROM:+0100
TZOFFSETTO:+0200
TZNAME:Europe/Berlin CEST
END:DAYLIGHT
BEGIN:DAYLIGHT
DTSTART:20250330T030000
RDATE:20251026T020000
TZOFFSETFROM:+0100
TZOFFSETTO:+0200
TZNAME:Europe/Berlin CEST
END:DAYLIGHT
BEGIN:DAYLIGHT
DTSTART:20260329T030000
RDATE:20261025T020000
TZOFFSETFROM:+0100
TZOFFSETTO:+0200
TZNAME:Europe/Berlin CEST
END:DAYLIGHT
BEGIN:DAYLIGHT
DTSTART:20270328T030000
RDATE:20271031T020000
TZOFFSETFROM:+0100
TZOFFSETTO:+0200
TZNAME:Europe/Berlin CEST
END:DAYLIGHT
BEGIN:DAYLIGHT
DTSTART:20280326T030000
RDATE:20281029T020000
TZOFFSETFROM:+0100
TZOFFSETTO:+0200
TZNAME:Europe/Berlin CEST
END:DAYLIGHT
BEGIN:DAYLIGHT
DTSTART:20290325T030000
RDATE:20291028T020000
TZOFFSETFROM:+0100
TZOFFSETTO:+0200
TZNAME:Europe/Berlin CEST
END:DAYLIGHT
BEGIN:DAYLIGHT
DTSTART:20300331T030000
RDATE:20301027T020000
TZOFFSETFROM:+0100
TZOFFSETTO:+0200
TZNAME:Europe/Berlin CEST
END:DAYLIGHT
END:VTIMEZONE
BEGIN:VEVENT
UID:e82cd9bdd92faaa06c7097d3851cb274
CATEGORIES:Nächste Termine
CREATED:20160716T134918
SUMMARY:Kirche trifft Synagoge - Jüdische und christliche Musik an Fleckenberger Orgel
LOCATION:St. Antonius Kirche in Fleckenberg\, Schmallenberg
DESCRIPTION:Die historische Ibach-Orgel in der St. Antonius Kirche in Fleckenberg steht
  nächsten Dienstag, 19.Jui im Mittelpunkt des Geschehens. Jüdische und chri
 stliche sakrale Musik erklingen ab 19 Uhr im Rahmen des Spirituellen Sommer
 s 2016. Ein besonderes Konzert, das Menschen, Kulturen und Religionen verbi
 ndet - mit einem besonderen Instrument: Die Fleckenberger Orgel stand bis 1
 904 in der Synagoge in Aachen und begleitete dort den Gottesdienst. Und sie
  ist die größte und in der Substanz am besten erhaltene Ibach-Orgel in West
 deutschland.\nEintritt: 14,50 €. Karten sind an der Abendkasse, im Vorverka
 uf unter www.proticket.de (http://l.facebook.com/l.php?u=http%3A%2F%2Fwww.p
 roticket.de%2F&amp;h=fAQHYnRaG&amp;enc=AZNVm3XXRmD7tnnycJGuRSQesr3K2gUqdIl6
 BDD5kQvadAT-iyVoMXkddNsU7Vn4K1FSNWe9KlCCZkXpIt2zQo0685hf6PMxdvpXmI4zQbUR__t
 PqgqrEObEjUMy913j_1RdZk63EZXAN5OtY1LDuI6n&amp;s=1) oder telefonisch unter 0
 231 9172290 bis zum 18.07.16 erhältlich. Mehr Informationen hier (http://ww
 w.derwesten.de/staedte/nachrichten-aus-meschede-eslohe-bestwig-und-schmalle
 nberg/juedische-musik-erklingt-in-katholischer-kirche-id12004333.html)\n
X-ALT-DESC;FMTTYPE=text/html:<p>Die historische Ibach-Orgel in der St. Antonius Kirche in Fleckenberg st
 eht nächsten Dienstag, 19.Jui im Mittelpunkt des Geschehens. Jüdische und c
 hristliche sakrale Musik erklingen ab 19 Uhr im Rahmen des Spirituellen Som
 mers 2016. Ein besonderes Konzert, das Menschen, Kulturen und Religionen ve
 rbindet - mit einem besonderen Instrument: Die Fleckenberger Orgel stand bi
 s 1904 in der Synagoge in Aachen und begleitete dort den Gottesdienst. Und 
 sie ist die größte und in der Substanz am besten erhaltene Ibach-Orgel in W
 estdeutschland.</p><p>Eintritt: 14,50 &euro;. Karten sind an der Abendkasse
 , im Vorverkauf unter <a href="http://l.facebook.com/l.php?u=http%3A%2F%2Fw
 ww.proticket.de%2F&h=fAQHYnRaG&enc=AZNVm3XXRmD7tnnycJGuRSQesr3K2gUqdIl6BDD5
 kQvadAT-iyVoMXkddNsU7Vn4K1FSNWe9KlCCZkXpIt2zQo0685hf6PMxdvpXmI4zQbUR__tPqgq
 rEObEjUMy913j_1RdZk63EZXAN5OtY1LDuI6n&s=1" target="_blank">www.proticket.de
 </a> oder telefonisch unter 0231 9172290 bis zum 18.07.16 erhältlich. Mehr 
 Informationen <a href="http://www.derwesten.de/staedte/nachrichten-aus-mesc
 hede-eslohe-bestwig-und-schmallenberg/juedische-musik-erklingt-in-katholisc
 her-kirche-id12004333.html" target="_blank" title="Opens external link in n
 ew window">hier</a></p>
DTSTAMP:20260424T182317
DTSTART;TZID=Europe/Berlin:20160719T190000
SEQUENCE:0
TRANSP:OPAQUE
END:VEVENT
END:VCALENDAR