BEGIN:VCALENDAR
VERSION:2.0
PRODID:-//jEvents 2.0 for Joomla//EN
CALSCALE:GREGORIAN
METHOD:PUBLISH
BEGIN:VTIMEZONE
TZID:Europe/Berlin
BEGIN:STANDARD
DTSTART:20151025T020000
RDATE:20160327T030000
TZOFFSETFROM:+0200
TZOFFSETTO:+0100
TZNAME:Europe/Berlin CET
END:STANDARD
BEGIN:STANDARD
DTSTART:20161030T020000
RDATE:20170326T030000
TZOFFSETFROM:+0200
TZOFFSETTO:+0100
TZNAME:Europe/Berlin CET
END:STANDARD
BEGIN:STANDARD
DTSTART:20171029T020000
RDATE:20180325T030000
TZOFFSETFROM:+0200
TZOFFSETTO:+0100
TZNAME:Europe/Berlin CET
END:STANDARD
BEGIN:STANDARD
DTSTART:20181028T020000
RDATE:20190331T030000
TZOFFSETFROM:+0200
TZOFFSETTO:+0100
TZNAME:Europe/Berlin CET
END:STANDARD
BEGIN:STANDARD
DTSTART:20191027T020000
RDATE:20200329T030000
TZOFFSETFROM:+0200
TZOFFSETTO:+0100
TZNAME:Europe/Berlin CET
END:STANDARD
BEGIN:STANDARD
DTSTART:20201025T020000
RDATE:20210328T030000
TZOFFSETFROM:+0200
TZOFFSETTO:+0100
TZNAME:Europe/Berlin CET
END:STANDARD
BEGIN:STANDARD
DTSTART:20211031T020000
RDATE:20220327T030000
TZOFFSETFROM:+0200
TZOFFSETTO:+0100
TZNAME:Europe/Berlin CET
END:STANDARD
BEGIN:STANDARD
DTSTART:20221030T020000
RDATE:20230326T030000
TZOFFSETFROM:+0200
TZOFFSETTO:+0100
TZNAME:Europe/Berlin CET
END:STANDARD
BEGIN:STANDARD
DTSTART:20231029T020000
RDATE:20240331T030000
TZOFFSETFROM:+0200
TZOFFSETTO:+0100
TZNAME:Europe/Berlin CET
END:STANDARD
BEGIN:STANDARD
DTSTART:20241027T020000
RDATE:20250330T030000
TZOFFSETFROM:+0200
TZOFFSETTO:+0100
TZNAME:Europe/Berlin CET
END:STANDARD
BEGIN:STANDARD
DTSTART:20251026T020000
RDATE:20260329T030000
TZOFFSETFROM:+0200
TZOFFSETTO:+0100
TZNAME:Europe/Berlin CET
END:STANDARD
BEGIN:STANDARD
DTSTART:20261025T020000
RDATE:20270328T030000
TZOFFSETFROM:+0200
TZOFFSETTO:+0100
TZNAME:Europe/Berlin CET
END:STANDARD
BEGIN:STANDARD
DTSTART:20271031T020000
RDATE:20280326T030000
TZOFFSETFROM:+0200
TZOFFSETTO:+0100
TZNAME:Europe/Berlin CET
END:STANDARD
BEGIN:STANDARD
DTSTART:20281029T020000
RDATE:20290325T030000
TZOFFSETFROM:+0200
TZOFFSETTO:+0100
TZNAME:Europe/Berlin CET
END:STANDARD
BEGIN:STANDARD
DTSTART:20291028T020000
RDATE:20300331T030000
TZOFFSETFROM:+0200
TZOFFSETTO:+0100
TZNAME:Europe/Berlin CET
END:STANDARD
BEGIN:STANDARD
DTSTART:20301027T020000
RDATE:20310330T030000
TZOFFSETFROM:+0200
TZOFFSETTO:+0100
TZNAME:Europe/Berlin CET
END:STANDARD
BEGIN:DAYLIGHT
DTSTART:20150918T170000
RDATE:20151025T020000
TZOFFSETFROM:+0100
TZOFFSETTO:+0200
TZNAME:Europe/Berlin CEST
END:DAYLIGHT
BEGIN:DAYLIGHT
DTSTART:20160327T030000
RDATE:20161030T020000
TZOFFSETFROM:+0100
TZOFFSETTO:+0200
TZNAME:Europe/Berlin CEST
END:DAYLIGHT
BEGIN:DAYLIGHT
DTSTART:20170326T030000
RDATE:20171029T020000
TZOFFSETFROM:+0100
TZOFFSETTO:+0200
TZNAME:Europe/Berlin CEST
END:DAYLIGHT
BEGIN:DAYLIGHT
DTSTART:20180325T030000
RDATE:20181028T020000
TZOFFSETFROM:+0100
TZOFFSETTO:+0200
TZNAME:Europe/Berlin CEST
END:DAYLIGHT
BEGIN:DAYLIGHT
DTSTART:20190331T030000
RDATE:20191027T020000
TZOFFSETFROM:+0100
TZOFFSETTO:+0200
TZNAME:Europe/Berlin CEST
END:DAYLIGHT
BEGIN:DAYLIGHT
DTSTART:20200329T030000
RDATE:20201025T020000
TZOFFSETFROM:+0100
TZOFFSETTO:+0200
TZNAME:Europe/Berlin CEST
END:DAYLIGHT
BEGIN:DAYLIGHT
DTSTART:20210328T030000
RDATE:20211031T020000
TZOFFSETFROM:+0100
TZOFFSETTO:+0200
TZNAME:Europe/Berlin CEST
END:DAYLIGHT
BEGIN:DAYLIGHT
DTSTART:20220327T030000
RDATE:20221030T020000
TZOFFSETFROM:+0100
TZOFFSETTO:+0200
TZNAME:Europe/Berlin CEST
END:DAYLIGHT
BEGIN:DAYLIGHT
DTSTART:20230326T030000
RDATE:20231029T020000
TZOFFSETFROM:+0100
TZOFFSETTO:+0200
TZNAME:Europe/Berlin CEST
END:DAYLIGHT
BEGIN:DAYLIGHT
DTSTART:20240331T030000
RDATE:20241027T020000
TZOFFSETFROM:+0100
TZOFFSETTO:+0200
TZNAME:Europe/Berlin CEST
END:DAYLIGHT
BEGIN:DAYLIGHT
DTSTART:20250330T030000
RDATE:20251026T020000
TZOFFSETFROM:+0100
TZOFFSETTO:+0200
TZNAME:Europe/Berlin CEST
END:DAYLIGHT
BEGIN:DAYLIGHT
DTSTART:20260329T030000
RDATE:20261025T020000
TZOFFSETFROM:+0100
TZOFFSETTO:+0200
TZNAME:Europe/Berlin CEST
END:DAYLIGHT
BEGIN:DAYLIGHT
DTSTART:20270328T030000
RDATE:20271031T020000
TZOFFSETFROM:+0100
TZOFFSETTO:+0200
TZNAME:Europe/Berlin CEST
END:DAYLIGHT
BEGIN:DAYLIGHT
DTSTART:20280326T030000
RDATE:20281029T020000
TZOFFSETFROM:+0100
TZOFFSETTO:+0200
TZNAME:Europe/Berlin CEST
END:DAYLIGHT
BEGIN:DAYLIGHT
DTSTART:20290325T030000
RDATE:20291028T020000
TZOFFSETFROM:+0100
TZOFFSETTO:+0200
TZNAME:Europe/Berlin CEST
END:DAYLIGHT
BEGIN:DAYLIGHT
DTSTART:20300331T030000
RDATE:20301027T020000
TZOFFSETFROM:+0100
TZOFFSETTO:+0200
TZNAME:Europe/Berlin CEST
END:DAYLIGHT
END:VTIMEZONE
BEGIN:VEVENT
UID:67e34f213de5485bce86a93a083729bb
CATEGORIES:Termine anderer Gemeinden
CREATED:20160830T103749
SUMMARY:Bike and Pray
DESCRIPTION:Worship-Café lädt zum Motorrad-Gottesdienst ein.\n\nArnsberg. Am Samstag, 1
 8. September findet um 17.00 Uhr das Worship-Café nicht in, sondern vor der
  Auferstehungskirche statt. „Der Neumarkt ist ein idealer Platz für einen M
 otorrad-Gottesdienst“, findet Pfarrer Wolfram Sievert. Der 54-jährige Theol
 oge nennt sich auf dem Motorrad  „einen Spätzünder“. 2009 machte er den Füh
 rerschein, heute unternimmt er begeistert lange Touren auf einer großen Mas
 chine. Im Sommerurlaub fuhr er 2800 Kilometer nach Schweden und wieder zurü
 ck. Er beherzigt den Ratschlag “Fahr nicht schneller als dein Schutzengel f
 liegen kann“. Diese Motto wird über dem Gottesdienst für Biker und andere s
 tehen, die an neuen Gottesdienstformen interessiert sind. Günter Willeke vo
 m Sauerländer Gebirgsverein und sein 17-jähriger Sohn Jan werden mit ihren 
 Maschinen kommen und andere motorisierte Mitglieder des Vereins mitbringen.
  Im SGV leitete Willeke schon mehrere Motorradausfahrten. Wie Sievert hält 
 er diesen Sonntag im September geeignet für einen Biker-Gottesdienst. „Es i
 st fast das Ende der Saison, manche können am Ende einer Ausfahrt nach Arns
 berg kommen und am Abend auf schöne Fahrten zurückblicken.“ Für Sievert ist
  wichtig, „dass wir die Opfer von Unfällen Gott anvertrauen.“ Beide lieben 
 am Motorrad, dass der Kontakt zur Natur so intensiv ist: „Man spürt den Win
 d, die Sonne und auch den Regen sehr direkt“ Und man sei angewiesen auf geg
 enseitige Rücksichtnahme aller Verkehrsteilnehmer. Der Rausch der Geschwind
 igkeit sei für sie weniger entscheidend als die Fahrt über kurvige Landstra
 ßen durch bildschöne Gegenden. Für Wolfgang Ploog, Presbyter und Pressespre
 cher der Arnsberger Protestanten, gehört der Biker-Gottesdienst zu den Expe
 rimenten, mit denen die Kirchengemeinde „eher außergewöhnliche Schritte ein
 schlägt.“\n Wie in jedem Worship-Café wird es auch beim Motorrad-Gottesdien
 st viel Musik geben, eine kurze Ansprache und anschließend einen Imbiss. Fü
 r die Band wird eine große Bühne auf dem Neumarkt  aufgebaut, die Biker kön
 nen ihre Motorräder dort abstellen oder – neben ihnen stehend –den Gottesdi
 enst feiern. Auch Interessierte ohne Motorrad sind selbstverständlich einge
 laden\nInfo: Das Worship-Café findet seit drei Jahren alle zwei Monate am d
 ritten Sonntag um 17.00 Uhr in der Auferstehungskirche statt. Die Worship-B
 and präsentiert Lobpreislieder in deutsch und englisch und lädt zum Mitsing
 en ein. Ungezwungen kann man dort essen, trinken und in der Pause ins Gespr
 äch kommen. Pfarrer Wolfram Sievert gibt ansprechende, aufbauende und stärk
 ende Worte mit auf den Weg. \nBilder: KKB\nBU:\n\n - Günter Willeke, Wolfga
 ng Ploog, Wolfram Sievert und Jan Willeke macht die Vorbereitung des Motorr
 ad-Gottesdienstes sichtlich Spaß.\n - Das GottesdienstplakatWeitere Informa
 tionen gibt Ihnen gerne: Pfarrer Wolfram Sievert, Tel. 02931-9369056 , E-Ma
 il: Diese E-Mail-Adresse ist vor Spambots geschützt! Zur Anzeige muss JavaS
 cript eingeschaltet sein.\n
X-ALT-DESC;FMTTYPE=text/html:<p>Worship-Café lädt zum Motorrad-Gottesdienst ein.</p><hr id="system-readm
 ore" /><p><br /><strong>Arnsberg.</strong> Am Samstag, 18. September findet
  um 17.00 Uhr das Worship-Café nicht in, sondern vor der Auferstehungskirch
 e statt. &bdquo;Der Neumarkt ist ein idealer Platz für einen Motorrad-Gotte
 sdienst&ldquo;, findet Pfarrer Wolfram Sievert. Der 54-jährige Theologe nen
 nt sich auf dem Motorrad  &bdquo;einen Spätzünder&ldquo;. 2009 machte er de
 n Führerschein, heute unternimmt er begeistert lange Touren auf einer große
 n Maschine. Im Sommerurlaub fuhr er 2800 Kilometer nach Schweden und wieder
  zurück. Er beherzigt den Ratschlag &ldquo;Fahr nicht schneller als dein Sc
 hutzengel fliegen kann&ldquo;. Diese Motto wird über dem Gottesdienst für B
 iker und andere stehen, die an neuen Gottesdienstformen interessiert sind. 
 Günter Willeke vom Sauerländer Gebirgsverein und sein 17-jähriger Sohn Jan 
 werden mit ihren Maschinen kommen und andere motorisierte Mitglieder des Ve
 reins mitbringen. Im SGV leitete Willeke schon mehrere Motorradausfahrten. 
 Wie Sievert hält er diesen Sonntag im September geeignet für einen Biker-Go
 ttesdienst. &bdquo;Es ist fast das Ende der Saison, manche können am Ende e
 iner Ausfahrt nach Arnsberg kommen und am Abend auf schöne Fahrten zurückbl
 icken.&ldquo; Für Sievert ist wichtig, &bdquo;dass wir die Opfer von Unfäll
 en Gott anvertrauen.&ldquo; Beide lieben am Motorrad, dass der Kontakt zur 
 Natur so intensiv ist: &bdquo;Man spürt den Wind, die Sonne und auch den Re
 gen sehr direkt&ldquo; Und man sei angewiesen auf gegenseitige Rücksichtnah
 me aller Verkehrsteilnehmer. Der Rausch der Geschwindigkeit sei für sie wen
 iger entscheidend als die Fahrt über kurvige Landstraßen durch bildschöne G
 egenden. Für Wolfgang Ploog, Presbyter und Pressesprecher der Arnsberger Pr
 otestanten, gehört der Biker-Gottesdienst zu den Experimenten, mit denen di
 e Kirchengemeinde &bdquo;eher außergewöhnliche Schritte einschlägt.&ldquo;<
 br /> Wie in jedem Worship-Café wird es auch beim Motorrad-Gottesdienst vie
 l Musik geben, eine kurze Ansprache und anschließend einen Imbiss. Für die 
 Band wird eine große Bühne auf dem Neumarkt  aufgebaut, die Biker können ih
 re Motorräder dort abstellen oder &ndash; neben ihnen stehend &ndash;den Go
 ttesdienst feiern. Auch Interessierte ohne Motorrad sind selbstverständlich
  eingeladen</p><p><span style="background: yellow none repeat scroll 0% 0%;
 ">Info: Das Worship-Café findet seit drei Jahren alle zwei Monate am dritte
 n Sonntag um 17.00 Uhr in der Auferstehungskirche statt. </span><span style
 ="background: yellow none repeat scroll 0% 0%;">Die Worship-Band präsentier
 t Lobpreislieder in deutsch und englisch und lädt zum Mitsingen ein. Ungezw
 ungen kann man dort essen, trinken und in der Pause ins Gespräch kommen. Pf
 arrer Wolfram Sievert gibt ansprechende, aufbauende und stärkende Worte mit
  auf den Weg.</span> </p><p>Bilder: KKB</p><p>BU:</p><ol><li>Günter Willeke
 , Wolfgang Ploog, Wolfram Sievert und Jan Willeke macht die Vorbereitung de
 s Motorrad-Gottesdienstes sichtlich Spaß.</li><li>Das Gottesdienstplakat</l
 i></ol><p>Weitere Informationen gibt Ihnen gerne: Pfarrer Wolfram Sievert, 
 Tel. 02931-9369056 , E-Mail: <joomla-hidden-mail  is-link="1" is-email="1" 
 first="d29sZnJhbQ==" last="d3NpZXZlcnQuZGU=" text="d29sZnJhbUB3c2lldmVydC5k
 ZQ==" base="" >Diese E-Mail-Adresse ist vor Spambots geschützt! Zur Anzeige
  muss JavaScript eingeschaltet sein.</joomla-hidden-mail></p>
DTSTAMP:20260424T223658
DTSTART;TZID=Europe/Berlin:20160918T170000
SEQUENCE:0
TRANSP:OPAQUE
END:VEVENT
END:VCALENDAR