BEGIN:VCALENDAR
VERSION:2.0
PRODID:-//jEvents 2.0 for Joomla//EN
CALSCALE:GREGORIAN
METHOD:PUBLISH
BEGIN:VTIMEZONE
TZID:Europe/Berlin
BEGIN:STANDARD
DTSTART:20161030T020000
RDATE:20170326T030000
TZOFFSETFROM:+0200
TZOFFSETTO:+0100
TZNAME:Europe/Berlin CET
END:STANDARD
BEGIN:STANDARD
DTSTART:20171029T020000
RDATE:20180325T030000
TZOFFSETFROM:+0200
TZOFFSETTO:+0100
TZNAME:Europe/Berlin CET
END:STANDARD
BEGIN:STANDARD
DTSTART:20181028T020000
RDATE:20190331T030000
TZOFFSETFROM:+0200
TZOFFSETTO:+0100
TZNAME:Europe/Berlin CET
END:STANDARD
BEGIN:STANDARD
DTSTART:20191027T020000
RDATE:20200329T030000
TZOFFSETFROM:+0200
TZOFFSETTO:+0100
TZNAME:Europe/Berlin CET
END:STANDARD
BEGIN:STANDARD
DTSTART:20201025T020000
RDATE:20210328T030000
TZOFFSETFROM:+0200
TZOFFSETTO:+0100
TZNAME:Europe/Berlin CET
END:STANDARD
BEGIN:STANDARD
DTSTART:20211031T020000
RDATE:20220327T030000
TZOFFSETFROM:+0200
TZOFFSETTO:+0100
TZNAME:Europe/Berlin CET
END:STANDARD
BEGIN:STANDARD
DTSTART:20221030T020000
RDATE:20230326T030000
TZOFFSETFROM:+0200
TZOFFSETTO:+0100
TZNAME:Europe/Berlin CET
END:STANDARD
BEGIN:STANDARD
DTSTART:20231029T020000
RDATE:20240331T030000
TZOFFSETFROM:+0200
TZOFFSETTO:+0100
TZNAME:Europe/Berlin CET
END:STANDARD
BEGIN:STANDARD
DTSTART:20241027T020000
RDATE:20250330T030000
TZOFFSETFROM:+0200
TZOFFSETTO:+0100
TZNAME:Europe/Berlin CET
END:STANDARD
BEGIN:STANDARD
DTSTART:20251026T020000
RDATE:20260329T030000
TZOFFSETFROM:+0200
TZOFFSETTO:+0100
TZNAME:Europe/Berlin CET
END:STANDARD
BEGIN:STANDARD
DTSTART:20261025T020000
RDATE:20270328T030000
TZOFFSETFROM:+0200
TZOFFSETTO:+0100
TZNAME:Europe/Berlin CET
END:STANDARD
BEGIN:STANDARD
DTSTART:20271031T020000
RDATE:20280326T030000
TZOFFSETFROM:+0200
TZOFFSETTO:+0100
TZNAME:Europe/Berlin CET
END:STANDARD
BEGIN:STANDARD
DTSTART:20281029T020000
RDATE:20290325T030000
TZOFFSETFROM:+0200
TZOFFSETTO:+0100
TZNAME:Europe/Berlin CET
END:STANDARD
BEGIN:STANDARD
DTSTART:20291028T020000
RDATE:20300331T030000
TZOFFSETFROM:+0200
TZOFFSETTO:+0100
TZNAME:Europe/Berlin CET
END:STANDARD
BEGIN:STANDARD
DTSTART:20301027T020000
RDATE:20310330T030000
TZOFFSETFROM:+0200
TZOFFSETTO:+0100
TZNAME:Europe/Berlin CET
END:STANDARD
BEGIN:DAYLIGHT
DTSTART:20160620T193000
RDATE:20161030T020000
TZOFFSETFROM:+0100
TZOFFSETTO:+0200
TZNAME:Europe/Berlin CEST
END:DAYLIGHT
BEGIN:DAYLIGHT
DTSTART:20170326T030000
RDATE:20171029T020000
TZOFFSETFROM:+0100
TZOFFSETTO:+0200
TZNAME:Europe/Berlin CEST
END:DAYLIGHT
BEGIN:DAYLIGHT
DTSTART:20180325T030000
RDATE:20181028T020000
TZOFFSETFROM:+0100
TZOFFSETTO:+0200
TZNAME:Europe/Berlin CEST
END:DAYLIGHT
BEGIN:DAYLIGHT
DTSTART:20190331T030000
RDATE:20191027T020000
TZOFFSETFROM:+0100
TZOFFSETTO:+0200
TZNAME:Europe/Berlin CEST
END:DAYLIGHT
BEGIN:DAYLIGHT
DTSTART:20200329T030000
RDATE:20201025T020000
TZOFFSETFROM:+0100
TZOFFSETTO:+0200
TZNAME:Europe/Berlin CEST
END:DAYLIGHT
BEGIN:DAYLIGHT
DTSTART:20210328T030000
RDATE:20211031T020000
TZOFFSETFROM:+0100
TZOFFSETTO:+0200
TZNAME:Europe/Berlin CEST
END:DAYLIGHT
BEGIN:DAYLIGHT
DTSTART:20220327T030000
RDATE:20221030T020000
TZOFFSETFROM:+0100
TZOFFSETTO:+0200
TZNAME:Europe/Berlin CEST
END:DAYLIGHT
BEGIN:DAYLIGHT
DTSTART:20230326T030000
RDATE:20231029T020000
TZOFFSETFROM:+0100
TZOFFSETTO:+0200
TZNAME:Europe/Berlin CEST
END:DAYLIGHT
BEGIN:DAYLIGHT
DTSTART:20240331T030000
RDATE:20241027T020000
TZOFFSETFROM:+0100
TZOFFSETTO:+0200
TZNAME:Europe/Berlin CEST
END:DAYLIGHT
BEGIN:DAYLIGHT
DTSTART:20250330T030000
RDATE:20251026T020000
TZOFFSETFROM:+0100
TZOFFSETTO:+0200
TZNAME:Europe/Berlin CEST
END:DAYLIGHT
BEGIN:DAYLIGHT
DTSTART:20260329T030000
RDATE:20261025T020000
TZOFFSETFROM:+0100
TZOFFSETTO:+0200
TZNAME:Europe/Berlin CEST
END:DAYLIGHT
BEGIN:DAYLIGHT
DTSTART:20270328T030000
RDATE:20271031T020000
TZOFFSETFROM:+0100
TZOFFSETTO:+0200
TZNAME:Europe/Berlin CEST
END:DAYLIGHT
BEGIN:DAYLIGHT
DTSTART:20280326T030000
RDATE:20281029T020000
TZOFFSETFROM:+0100
TZOFFSETTO:+0200
TZNAME:Europe/Berlin CEST
END:DAYLIGHT
BEGIN:DAYLIGHT
DTSTART:20290325T030000
RDATE:20291028T020000
TZOFFSETFROM:+0100
TZOFFSETTO:+0200
TZNAME:Europe/Berlin CEST
END:DAYLIGHT
BEGIN:DAYLIGHT
DTSTART:20300331T030000
RDATE:20301027T020000
TZOFFSETFROM:+0100
TZOFFSETTO:+0200
TZNAME:Europe/Berlin CEST
END:DAYLIGHT
END:VTIMEZONE
BEGIN:VEVENT
UID:603b6ae449bd4bad9be6f7dbe9d5068f
CATEGORIES:Nächste Termine
CREATED:20170619T083757
SUMMARY:Einladung der ev. Kirche Neheim zum Wahlgottesdienst am Mittwoch, den 21.6.17
LOCATION:Christuskirche
DESCRIPTION:Das Presbyterium der evangel. Kirche Neheim lädtt alle Gemeindemitglieder z
 u einem Wahlgottesdienst am Mittwoch, den 21.Juni, 19.30 Uhr in die Christu
 skirche Neheim, Burgstraße ein.\nZur Wahl steht die einzige Bewerberin für 
 den vakanten Pfarrbezirk II (Pauluskirche), Frau Gabriela Hirsch aus Arnsbe
 rg. Frau Hirsch würde die Stelle von Pfarrerin Elisabeth Pakull übernehmen,
  die nach Hamm verzogen ist. Allerdings handelt es sich um eine halbe Stell
 e. Frau Hirsch hat sich auch in der Gemeinde Sundern um eine 0,5 Stelle bew
 orben.\n\nDer Wahlgottesdienst wird in Anwesenheit des Superintendenten Alf
 red Hammer vom Kirchenkreis Arnsberg und Pfr. Dr. Udo Arnoldi erfolgen. Nac
 h dem Gottesdienst berät das 11köfige Presbyterium und entscheidet dann meh
 rheitlich, ob Frau Hirsch die Stelle im Pfarrbezirk II erhält.\n \nDie Ents
 cheidung wird dann unverzüglich der wartenden Gemeinde in der Christuskirch
 e durch den 1. Vorsitzenden Alexander Still mitgeteilt."\n  \ni.A. K.-G. Wu
 schansky\n-Öffentlichkeitsbeauftragter-\nEvangel. Gemeinde Neheim\n
X-ALT-DESC;FMTTYPE=text/html:<p>Das Presbyterium der evangel. Kirche Neheim l&auml;dtt alle Gemeindemitg
 lieder zu einem Wahlgottesdienst am Mittwoch, den 21.Juni, 19.30 Uhr in die
  Christuskirche Neheim, Burgstra&szlig;e ein.<br />Zur Wahl steht die einzi
 ge Bewerberin f&uuml;r den vakanten Pfarrbezirk II (Pauluskirche), Frau Gab
 riela Hirsch aus Arnsberg. Frau Hirsch w&uuml;rde die Stelle von Pfarrerin 
 Elisabeth Pakull &uuml;bernehmen, die nach Hamm verzogen ist. Allerdings ha
 ndelt es sich um eine halbe Stelle. Frau Hirsch hat sich auch in der Gemein
 de Sundern um eine 0,5 Stelle beworben.<br /><br />Der Wahlgottesdienst wir
 d in Anwesenheit des Superintendenten Alfred Hammer vom Kirchenkreis Arnsbe
 rg und Pfr. Dr. Udo Arnoldi erfolgen. Nach dem Gottesdienst ber&auml;t das 
 11k&ouml;fige Presbyterium und entscheidet dann mehrheitlich, ob Frau Hirsc
 h die Stelle im Pfarrbezirk II erh&auml;lt.<br />&nbsp;<br />Die Entscheidu
 ng wird dann unverz&uuml;glich der wartenden Gemeinde in der Christuskirche
  durch den 1. Vorsitzenden Alexander Still mitgeteilt."<br />&nbsp; <br />i
 .A. K.-G. Wuschansky<br />-&Ouml;ffentlichkeitsbeauftragter-<br />Evangel. 
 Gemeinde Neheim</p>
DTSTAMP:20260422T054807
DTSTART;TZID=Europe/Berlin:20170621T193000
DTEND;TZID=Europe/Berlin:20170621T203000
SEQUENCE:0
TRANSP:OPAQUE
END:VEVENT
END:VCALENDAR