BEGIN:VCALENDAR
VERSION:2.0
PRODID:-//jEvents 2.0 for Joomla//EN
CALSCALE:GREGORIAN
METHOD:PUBLISH
BEGIN:VTIMEZONE
TZID:Europe/Berlin
BEGIN:STANDARD
DTSTART:20170321T180000
RDATE:20170326T030000
TZOFFSETFROM:+0200
TZOFFSETTO:+0100
TZNAME:Europe/Berlin CET
END:STANDARD
BEGIN:STANDARD
DTSTART:20171029T020000
RDATE:20180325T030000
TZOFFSETFROM:+0200
TZOFFSETTO:+0100
TZNAME:Europe/Berlin CET
END:STANDARD
BEGIN:STANDARD
DTSTART:20181028T020000
RDATE:20190331T030000
TZOFFSETFROM:+0200
TZOFFSETTO:+0100
TZNAME:Europe/Berlin CET
END:STANDARD
BEGIN:STANDARD
DTSTART:20191027T020000
RDATE:20200329T030000
TZOFFSETFROM:+0200
TZOFFSETTO:+0100
TZNAME:Europe/Berlin CET
END:STANDARD
BEGIN:STANDARD
DTSTART:20201025T020000
RDATE:20210328T030000
TZOFFSETFROM:+0200
TZOFFSETTO:+0100
TZNAME:Europe/Berlin CET
END:STANDARD
BEGIN:STANDARD
DTSTART:20211031T020000
RDATE:20220327T030000
TZOFFSETFROM:+0200
TZOFFSETTO:+0100
TZNAME:Europe/Berlin CET
END:STANDARD
BEGIN:STANDARD
DTSTART:20221030T020000
RDATE:20230326T030000
TZOFFSETFROM:+0200
TZOFFSETTO:+0100
TZNAME:Europe/Berlin CET
END:STANDARD
BEGIN:STANDARD
DTSTART:20231029T020000
RDATE:20240331T030000
TZOFFSETFROM:+0200
TZOFFSETTO:+0100
TZNAME:Europe/Berlin CET
END:STANDARD
BEGIN:STANDARD
DTSTART:20241027T020000
RDATE:20250330T030000
TZOFFSETFROM:+0200
TZOFFSETTO:+0100
TZNAME:Europe/Berlin CET
END:STANDARD
BEGIN:STANDARD
DTSTART:20251026T020000
RDATE:20260329T030000
TZOFFSETFROM:+0200
TZOFFSETTO:+0100
TZNAME:Europe/Berlin CET
END:STANDARD
BEGIN:STANDARD
DTSTART:20261025T020000
RDATE:20270328T030000
TZOFFSETFROM:+0200
TZOFFSETTO:+0100
TZNAME:Europe/Berlin CET
END:STANDARD
BEGIN:STANDARD
DTSTART:20271031T020000
RDATE:20280326T030000
TZOFFSETFROM:+0200
TZOFFSETTO:+0100
TZNAME:Europe/Berlin CET
END:STANDARD
BEGIN:STANDARD
DTSTART:20281029T020000
RDATE:20290325T030000
TZOFFSETFROM:+0200
TZOFFSETTO:+0100
TZNAME:Europe/Berlin CET
END:STANDARD
BEGIN:STANDARD
DTSTART:20291028T020000
RDATE:20300331T030000
TZOFFSETFROM:+0200
TZOFFSETTO:+0100
TZNAME:Europe/Berlin CET
END:STANDARD
BEGIN:STANDARD
DTSTART:20301027T020000
RDATE:20310330T030000
TZOFFSETFROM:+0200
TZOFFSETTO:+0100
TZNAME:Europe/Berlin CET
END:STANDARD
BEGIN:DAYLIGHT
DTSTART:20170326T030000
RDATE:20171029T020000
TZOFFSETFROM:+0100
TZOFFSETTO:+0200
TZNAME:Europe/Berlin CEST
END:DAYLIGHT
BEGIN:DAYLIGHT
DTSTART:20180325T030000
RDATE:20181028T020000
TZOFFSETFROM:+0100
TZOFFSETTO:+0200
TZNAME:Europe/Berlin CEST
END:DAYLIGHT
BEGIN:DAYLIGHT
DTSTART:20190331T030000
RDATE:20191027T020000
TZOFFSETFROM:+0100
TZOFFSETTO:+0200
TZNAME:Europe/Berlin CEST
END:DAYLIGHT
BEGIN:DAYLIGHT
DTSTART:20200329T030000
RDATE:20201025T020000
TZOFFSETFROM:+0100
TZOFFSETTO:+0200
TZNAME:Europe/Berlin CEST
END:DAYLIGHT
BEGIN:DAYLIGHT
DTSTART:20210328T030000
RDATE:20211031T020000
TZOFFSETFROM:+0100
TZOFFSETTO:+0200
TZNAME:Europe/Berlin CEST
END:DAYLIGHT
BEGIN:DAYLIGHT
DTSTART:20220327T030000
RDATE:20221030T020000
TZOFFSETFROM:+0100
TZOFFSETTO:+0200
TZNAME:Europe/Berlin CEST
END:DAYLIGHT
BEGIN:DAYLIGHT
DTSTART:20230326T030000
RDATE:20231029T020000
TZOFFSETFROM:+0100
TZOFFSETTO:+0200
TZNAME:Europe/Berlin CEST
END:DAYLIGHT
BEGIN:DAYLIGHT
DTSTART:20240331T030000
RDATE:20241027T020000
TZOFFSETFROM:+0100
TZOFFSETTO:+0200
TZNAME:Europe/Berlin CEST
END:DAYLIGHT
BEGIN:DAYLIGHT
DTSTART:20250330T030000
RDATE:20251026T020000
TZOFFSETFROM:+0100
TZOFFSETTO:+0200
TZNAME:Europe/Berlin CEST
END:DAYLIGHT
BEGIN:DAYLIGHT
DTSTART:20260329T030000
RDATE:20261025T020000
TZOFFSETFROM:+0100
TZOFFSETTO:+0200
TZNAME:Europe/Berlin CEST
END:DAYLIGHT
BEGIN:DAYLIGHT
DTSTART:20270328T030000
RDATE:20271031T020000
TZOFFSETFROM:+0100
TZOFFSETTO:+0200
TZNAME:Europe/Berlin CEST
END:DAYLIGHT
BEGIN:DAYLIGHT
DTSTART:20280326T030000
RDATE:20281029T020000
TZOFFSETFROM:+0100
TZOFFSETTO:+0200
TZNAME:Europe/Berlin CEST
END:DAYLIGHT
BEGIN:DAYLIGHT
DTSTART:20290325T030000
RDATE:20291028T020000
TZOFFSETFROM:+0100
TZOFFSETTO:+0200
TZNAME:Europe/Berlin CEST
END:DAYLIGHT
BEGIN:DAYLIGHT
DTSTART:20300331T030000
RDATE:20301027T020000
TZOFFSETFROM:+0100
TZOFFSETTO:+0200
TZNAME:Europe/Berlin CEST
END:DAYLIGHT
END:VTIMEZONE
BEGIN:VEVENT
UID:9736f8e2ba5b78cdcfe4f6e458d4cfc9
CATEGORIES:Nächste Termine
CREATED:20180312T153510
SUMMARY:Feier-Abend
LOCATION:Gemeindehaus
DESCRIPTION:             Herzliche Einladung zum Feier-Abend\n\nNachdem zum Jahresende 
 das Angebot des „Internationale Miteinander“ ausgelaufen ist, gibt es nun i
 m evangelischem Gemeindehaus Christuskirche ein neues geselliges Angebot zu
 m Feier-Abend:\n         am Donnerstag, den 22.03 von 18-20.00 Uhr \nDieses
  Treffen zum Feier-Abend wird vierteljährlich wiederholt.\nAlle sind herzli
 ch willkommen: alt oder jung, Familie, Single oder Paar, aus der Gemeinde, 
 der Nachbarschaft, Nachbargemeinde, Zugezogene, Geflüchtete. \nAngedacht is
 t ein zwangloses offenes Treffen mit Essen und Trinken, gerne auch als frei
 williges Mitbringbuffet:\n-         Der Eine hat vielleicht Zeit und Lust e
 inen Salat zu machen, oder einen Frühlingsquark anzurühren, oder… \n-      
    Die Andere bringt ein Brot oder Salzstangen oder eine Flasche Wein mit\n
 -         und natürlich darf man auch einfach so vorbeikommen.\nDas Gastgeb
 erteam möchte Ihnen Zeit und Raum geben um über "Gott und die Welt" zu plau
 dern.\nAls Einstieg in den ersten Abend, wollen wir Frühlingslieder singen 
 und Gedichte bzw. Kurzgeschichten lesen. Für einen Imbiss und Getränke ist 
 gesorgt.\nUm allen Interessierten eine Teilnahme zu ermöglichen, können Fah
 rgemeinschaften gebildet und Fahrdienste angeboten werden.\nTermine werden 
 noch bekanntgegeben.\nWir freuen uns darauf, mit Ihnen ins Gespräch zu komm
 en!\n\nGerlinde Faber\n\n
X-ALT-DESC;FMTTYPE=text/html:<p><span style="font-size: 16pt;">&nbsp;&nbsp;&nbsp;&nbsp;&nbsp;&nbsp;&nbsp
 ;&nbsp;&nbsp;&nbsp;&nbsp;&nbsp; <b><span style="text-decoration: underline;
 ">Herzliche Einladung zum Feier-Abend</span></b></span></p><p><b><span styl
 e="font-size: 16pt;"></span></b></p><p><span style="font-size: 14pt;">Nachd
 em zum Jahresende das Angebot des &bdquo;Internationale Miteinander&ldquo; 
 ausgelaufen ist, gibt es nun im evangelischem Gemeindehaus Christuskirche e
 in neues geselliges Angebot zum Feier-Abend:</span></p><p><span style="font
 -size: 14pt;">&nbsp;&nbsp;&nbsp;&nbsp;&nbsp;&nbsp;&nbsp;&nbsp; <b>am Donner
 stag, den 22.03 von 18-20.00 Uhr </b></span></p><p><span style="font-size: 
 14pt;">Dieses Treffen zum Feier-Abend wird viertelj&auml;hrlich wiederholt.
 </span></p><p><span style="font-size: 14pt;">Alle sind herzlich willkommen:
  alt oder jung, Familie, Single oder Paar, aus der Gemeinde, der Nachbarsch
 aft, Nachbargemeinde, Zugezogene, Gefl&uuml;chtete. </span></p><p><span sty
 le="font-size: 14pt;">Angedacht ist ein zwangloses offenes Treffen mit Esse
 n und Trinken, gerne auch als freiwilliges Mitbringbuffet:</span></p><p sty
 le="margin-left: 36pt; text-indent: -18pt;"><span style="font-size: 14pt;">
 -<span style="font: 7pt 'Times New Roman';">&nbsp;&nbsp;&nbsp;&nbsp;&nbsp;&
 nbsp;&nbsp;&nbsp; </span></span><span style="font-size: 14pt;">Der Eine hat
  vielleicht Zeit und Lust einen Salat zu machen, oder einen Fr&uuml;hlingsq
 uark anzur&uuml;hren, oder&hellip; </span></p><p style="margin-left: 36pt; 
 text-indent: -18pt;"><span style="font-size: 14pt;">-<span style="font: 7pt
  'Times New Roman';">&nbsp;&nbsp;&nbsp;&nbsp;&nbsp;&nbsp;&nbsp;&nbsp; </spa
 n></span><span style="font-size: 14pt;">Die Andere bringt ein Brot oder Sal
 zstangen oder eine Flasche Wein mit</span></p><p style="margin-left: 36pt; 
 text-indent: -18pt;"><span style="font-size: 14pt;">-<span style="font: 7pt
  'Times New Roman';">&nbsp;&nbsp;&nbsp;&nbsp;&nbsp;&nbsp;&nbsp;&nbsp; </spa
 n></span><span style="font-size: 14pt;">und nat&uuml;rlich darf man auch ei
 nfach so vorbeikommen.</span></p><p><span style="font-size: 14pt;">Das Gast
 geberteam m&ouml;chte Ihnen Zeit und Raum geben um &uuml;ber "Gott und die 
 Welt" zu plaudern.</span></p><p style="margin-top: 0cm; margin-right: 0cm; 
 margin-bottom: 0.0001pt;"><span style="font-size: 14pt;">Als Einstieg in de
 n ersten Abend, wollen wir Fr&uuml;hlingslieder singen und Gedichte bzw. Ku
 rzgeschichten lesen. F&uuml;r einen Imbiss und Getr&auml;nke ist gesorgt.</
 span></p><p><span style="font-size: 14pt;">Um allen Interessierten eine Tei
 lnahme zu erm&ouml;glichen, k&ouml;nnen Fahrgemeinschaften gebildet und Fah
 rdienste angeboten werden.</span></p><p><span style="font-size: 14pt;">Term
 ine werden noch bekanntgegeben.</span></p><p><span style="font-size: 14pt;"
 >Wir freuen uns darauf, mit Ihnen ins Gespr&auml;ch zu kommen!</span></p><p
 ><span style="font-size: 14pt;"></span></p><p><span style="font-size: 14pt;
 ">Gerlinde Faber</span></p><p><span style="font-size: 14pt;"></span></p>
DTSTAMP:20260421T061141
DTSTART;TZID=Europe/Berlin:20180322T180000
DTEND;TZID=Europe/Berlin:20180322T200000
SEQUENCE:0
TRANSP:OPAQUE
END:VEVENT
END:VCALENDAR